BEGIN:VCALENDAR
VERSION:2.0
X-LOTUS-CHARSET:UTF-8
PRODID:https://z10.info
METHOD:PUBLISH
BEGIN:VTIMEZONE
TZID:Europe/Berlin
X-LIC-LOCATION:Europe/Berlin
BEGIN:DAYLIGHT
TZOFFSETFROM:+0100
TZOFFSETTO:+0200
TZNAME:CEST
DTSTART:19700329T020000
RRULE:FREQ=YEARLY;BYDAY=-1SU;BYMONTH=3
END:DAYLIGHT
BEGIN:STANDARD
TZOFFSETFROM:+0200
TZOFFSETTO:+0100
TZNAME:CET
DTSTART:19701025T030000
RRULE:FREQ=YEARLY;BYDAY=-1SU;BYMONTH=10
END:STANDARD
END:VTIMEZONE
BEGIN:VEVENT
UID:event1264-20171009T090000@z10.info
CLASS:PUBLIC
SUMMARY:O-Phase
DTSTART;TZID=Europe/Berlin:20171009T090000
DTEND;TZID=Europe/Berlin:20171009T090000
DTSTAMP:20171009T090000
DESCRIPTION:Es
 ist O-Phase! Wir haben jeden Tag von 9 Uhr bis in die Nacht hinein geöffnet. 
Kommt mit euren Erstis vorbei und zeigt ihnen ein Urgestein der 
Karlsruher Studentenszene, das ungebrochen zu günstigen Preisen, in 
netter Atmosphäre Kultur, Lernraum, Entspannung und Erholung vor dem 
Studi-Alltag bietet.
LOCATION:Studentenzentrum Z10, Zähringerstr. 10, 76131 Karlsruhe
CATEGORIES:Z10,Party
END:VEVENT
END:VCALENDAR